Package: gpuMagic Version: 1.25.1 Command: /home/biocbuild/bbs-3.22-bioc/R/bin/R CMD build --keep-empty-dirs --no-resave-data --md5 gpuMagic StartedAt: 2025-10-24 18:07:29 -0400 (Fri, 24 Oct 2025) EndedAt: 2025-10-24 18:07:32 -0400 (Fri, 24 Oct 2025) EllapsedTime: 3.0 seconds RetCode: 1 Status: ERROR PackageFile: None PackageFileSize: NA