Package: gpuMagic Version: 1.26.0 Command: /Library/Frameworks/R.framework/Resources/bin/R CMD INSTALL gpuMagic StartedAt: 2025-11-03 15:18:40 -0500 (Mon, 03 Nov 2025) EndedAt: 2025-11-03 15:19:06 -0500 (Mon, 03 Nov 2025) EllapsedTime: 26.0 seconds RetCode: 0 Status: OK