Package: gpuMagic Version: 1.26.0 Command: rm -rf gpuMagic.buildbin-libdir && mkdir gpuMagic.buildbin-libdir && /Users/biocbuild/BBS/utils/build-universal.sh gpuMagic_1.26.0.tar.gz /Library/Frameworks/R.framework/Resources/bin/R gpuMagic.buildbin-libdir StartedAt: 2025-11-04 01:43:26 -0500 (Tue, 04 Nov 2025) EndedAt: 2025-11-04 01:43:59 -0500 (Tue, 04 Nov 2025) EllapsedTime: 32.4 seconds RetCode: 0 Status: OK PackageFile: gpuMagic_1.26.0.tgz PackageFileSize: 1.487 MiB