Package: gpuMagic Version: 1.26.0 Command: /Library/Frameworks/R.framework/Resources/bin/R CMD build --keep-empty-dirs --no-resave-data gpuMagic StartedAt: 2025-11-17 21:41:41 -0500 (Mon, 17 Nov 2025) EndedAt: 2025-11-17 21:41:51 -0500 (Mon, 17 Nov 2025) EllapsedTime: 10.1 seconds RetCode: 1 Status: ERROR PackageFile: None PackageFileSize: NA