Package: gpls Version: 1.81.0 Command: /home/biocbuild/bbs-3.22-bioc/R/bin/R CMD INSTALL gpls StartedAt: 2025-10-24 15:12:51 -0400 (Fri, 24 Oct 2025) EndedAt: 2025-10-24 15:12:53 -0400 (Fri, 24 Oct 2025) EllapsedTime: 2.8 seconds RetCode: 0 Status: OK