Package: gpls Version: 1.82.0 Command: /Library/Frameworks/R.framework/Resources/bin/R CMD build --keep-empty-dirs --no-resave-data gpls StartedAt: 2025-11-03 17:14:39 -0500 (Mon, 03 Nov 2025) EndedAt: 2025-11-03 17:14:54 -0500 (Mon, 03 Nov 2025) EllapsedTime: 14.8 seconds RetCode: 0 Status: OK PackageFile: gpls_1.82.0.tar.gz PackageFileSize: 232.8 KiB