Package: gpls Version: 1.82.0 Command: rm -rf gpls.buildbin-libdir && mkdir gpls.buildbin-libdir && /Users/biocbuild/BBS/utils/build-universal.sh gpls_1.82.0.tar.gz /Library/Frameworks/R.framework/Resources/bin/R gpls.buildbin-libdir StartedAt: 2025-11-04 01:43:26 -0500 (Tue, 04 Nov 2025) EndedAt: 2025-11-04 01:43:32 -0500 (Tue, 04 Nov 2025) EllapsedTime: 5.8 seconds RetCode: 0 Status: OK PackageFile: gpls_1.82.0.tgz PackageFileSize: 295 KiB