Package: gpls Version: 1.82.0 Command: /Library/Frameworks/R.framework/Resources/bin/R CMD INSTALL gpls StartedAt: 2025-11-03 15:01:20 -0500 (Mon, 03 Nov 2025) EndedAt: 2025-11-03 15:01:22 -0500 (Mon, 03 Nov 2025) EllapsedTime: 1.8 seconds RetCode: 0 Status: OK