Package: gpls Version: 1.82.0 Command: /Library/Frameworks/R.framework/Resources/bin/R CMD build --keep-empty-dirs --no-resave-data gpls StartedAt: 2025-10-31 16:40:03 -0400 (Fri, 31 Oct 2025) EndedAt: 2025-10-31 16:40:09 -0400 (Fri, 31 Oct 2025) EllapsedTime: 6.1 seconds RetCode: 0 Status: OK PackageFile: gpls_1.82.0.tar.gz PackageFileSize: 233.4 KiB