Package: gpls Version: 1.82.0 Command: rm -rf gpls.buildbin-libdir && mkdir gpls.buildbin-libdir && /Users/biocbuild/BBS/utils/build-universal.sh gpls_1.82.0.tar.gz /Library/Frameworks/R.framework/Resources/bin/R gpls.buildbin-libdir StartedAt: 2025-10-31 23:09:24 -0400 (Fri, 31 Oct 2025) EndedAt: 2025-10-31 23:09:26 -0400 (Fri, 31 Oct 2025) EllapsedTime: 2.1 seconds RetCode: 0 Status: OK PackageFile: gpls_1.82.0.tgz PackageFileSize: 296 KiB