Package: gpls Version: 1.82.0 Command: /Library/Frameworks/R.framework/Resources/bin/R CMD INSTALL gpls StartedAt: 2025-11-17 16:50:53 -0500 (Mon, 17 Nov 2025) EndedAt: 2025-11-17 16:50:55 -0500 (Mon, 17 Nov 2025) EllapsedTime: 1.2 seconds RetCode: 0 Status: OK