Package: gpls Version: 1.82.0 Command: rm -rf gpls.buildbin-libdir && mkdir gpls.buildbin-libdir && /Users/biocbuild/BBS/utils/build-universal.sh gpls_1.82.0.tar.gz /Library/Frameworks/R.framework/Resources/bin/R gpls.buildbin-libdir StartedAt: 2025-11-18 15:39:54 -0500 (Tue, 18 Nov 2025) EndedAt: 2025-11-18 15:39:56 -0500 (Tue, 18 Nov 2025) EllapsedTime: 2.0 seconds RetCode: 0 Status: OK PackageFile: gpls_1.82.0.tgz PackageFileSize: 296.1 KiB