Package: goseq Version: 1.62.0 Command: /home/biocbuild/bbs-3.22-bioc/R/bin/R CMD INSTALL goseq StartedAt: 2025-11-14 15:44:17 -0500 (Fri, 14 Nov 2025) EndedAt: 2025-11-14 15:44:54 -0500 (Fri, 14 Nov 2025) EllapsedTime: 36.8 seconds RetCode: 0 Status: OK