Package: goatea Version: 0.99.9 Command: /home/biocbuild/bbs-3.22-bioc/R/bin/R CMD build --keep-empty-dirs --no-resave-data --md5 goatea StartedAt: 2025-10-27 17:56:41 -0400 (Mon, 27 Oct 2025) EndedAt: 2025-10-27 17:58:48 -0400 (Mon, 27 Oct 2025) EllapsedTime: 127.1 seconds RetCode: 1 Status: ERROR PackageFile: None PackageFileSize: NA