Package: goTools Version: 1.84.0 Command: /Library/Frameworks/R.framework/Resources/bin/R CMD INSTALL goTools StartedAt: 2025-11-03 15:39:57 -0500 (Mon, 03 Nov 2025) EndedAt: 2025-11-03 15:40:14 -0500 (Mon, 03 Nov 2025) EllapsedTime: 17.2 seconds RetCode: 0 Status: OK