Package: goTools Version: 1.84.0 Command: /Library/Frameworks/R.framework/Resources/bin/R CMD build --keep-empty-dirs --no-resave-data goTools StartedAt: 2025-11-03 17:14:31 -0500 (Mon, 03 Nov 2025) EndedAt: 2025-11-03 17:14:57 -0500 (Mon, 03 Nov 2025) EllapsedTime: 25.1 seconds RetCode: 0 Status: OK PackageFile: goTools_1.84.0.tar.gz PackageFileSize: 241.6 KiB