Package: goTools Version: 1.84.0 Command: /Library/Frameworks/R.framework/Resources/bin/R CMD INSTALL goTools StartedAt: 2025-11-17 18:15:35 -0500 (Mon, 17 Nov 2025) EndedAt: 2025-11-17 18:15:40 -0500 (Mon, 17 Nov 2025) EllapsedTime: 5.1 seconds RetCode: 0 Status: OK