Package: goTools Version: 1.84.0 Command: rm -rf goTools.buildbin-libdir && mkdir goTools.buildbin-libdir && /Users/biocbuild/BBS/utils/build-universal.sh goTools_1.84.0.tar.gz /Library/Frameworks/R.framework/Resources/bin/R goTools.buildbin-libdir StartedAt: 2025-11-18 15:39:49 -0500 (Tue, 18 Nov 2025) EndedAt: 2025-11-18 15:39:56 -0500 (Tue, 18 Nov 2025) EllapsedTime: 7.1 seconds RetCode: 0 Status: OK PackageFile: goTools_1.84.0.tgz PackageFileSize: 261.9 KiB