Package: gmapR Version: 1.52.0 Command: /home/biocbuild/bbs-3.22-bioc/R/bin/R CMD INSTALL gmapR StartedAt: 2025-10-31 15:51:59 -0400 (Fri, 31 Oct 2025) EndedAt: 2025-10-31 15:58:59 -0400 (Fri, 31 Oct 2025) EllapsedTime: 420.4 seconds RetCode: 0 Status: OK