Package: globaltest Version: 5.64.0 Command: /home/biocbuild/bbs-3.22-bioc/R/bin/R CMD INSTALL globaltest StartedAt: 2025-11-02 15:40:51 -0500 (Sun, 02 Nov 2025) EndedAt: 2025-11-02 15:41:24 -0500 (Sun, 02 Nov 2025) EllapsedTime: 32.3 seconds RetCode: 0 Status: OK