Package: glmSparseNet Version: 1.28.0 Command: /home/biocbuild/bbs-3.22-bioc/R/bin/R CMD check --install=check:glmSparseNet.install-out.txt --library=/home/biocbuild/bbs-3.22-bioc/R/site-library --timings glmSparseNet_1.28.0.tar.gz StartedAt: 2025-11-10 00:17:50 -0500 (Mon, 10 Nov 2025) EndedAt: 2025-11-10 00:24:35 -0500 (Mon, 10 Nov 2025) EllapsedTime: 405.4 seconds RetCode: 0 Status: OK CheckDir: glmSparseNet.Rcheck Warnings: 0