Package: glmSparseNet Version: 1.27.0 Command: /Library/Frameworks/R.framework/Resources/bin/R CMD INSTALL glmSparseNet StartedAt: 2025-10-24 15:25:08 -0400 (Fri, 24 Oct 2025) EndedAt: 2025-10-24 15:25:10 -0400 (Fri, 24 Oct 2025) EllapsedTime: 1.3 seconds RetCode: 0 Status: OK