Package: glmGamPoi Version: 1.22.0 Command: /home/biocbuild/bbs-3.22-bioc/R/bin/R CMD build --keep-empty-dirs --no-resave-data --md5 glmGamPoi StartedAt: 2025-10-31 18:02:46 -0400 (Fri, 31 Oct 2025) EndedAt: 2025-10-31 18:10:07 -0400 (Fri, 31 Oct 2025) EllapsedTime: 441.3 seconds RetCode: 0 Status: OK PackageFile: glmGamPoi_1.22.0.tar.gz PackageFileSize: 2.098 MiB