Package: ggtree Version: 3.99.2 Command: /home/biocbuild/R/R/bin/R CMD INSTALL ggtree StartedAt: 2025-10-23 20:28:10 -0000 (Thu, 23 Oct 2025) EndedAt: 2025-10-23 20:28:38 -0000 (Thu, 23 Oct 2025) EllapsedTime: 27.2 seconds RetCode: 0 Status: OK