Package: ggtree Version: 3.99.2 Command: /home/biocbuild/R/R/bin/R CMD build --keep-empty-dirs --no-resave-data ggtree StartedAt: 2025-10-21 00:07:20 -0000 (Tue, 21 Oct 2025) EndedAt: 2025-10-21 00:07:40 -0000 (Tue, 21 Oct 2025) EllapsedTime: 20.0 seconds RetCode: 0 Status: OK PackageFile: ggtree_3.99.2.tar.gz PackageFileSize: 358.2 KiB