Package: ggtree Version: 3.99.2 Command: /home/biocbuild/bbs-3.22-bioc/R/bin/R CMD INSTALL ggtree StartedAt: 2025-10-24 15:20:55 -0400 (Fri, 24 Oct 2025) EndedAt: 2025-10-24 15:21:07 -0400 (Fri, 24 Oct 2025) EllapsedTime: 12.0 seconds RetCode: 0 Status: OK