Package: ggtree Version: 3.99.2 Command: /home/biocbuild/bbs-3.22-bioc/R/bin/R CMD check --install=check:ggtree.install-out.txt --library=/home/biocbuild/bbs-3.22-bioc/R/site-library --timings ggtree_3.99.2.tar.gz StartedAt: 2025-10-29 00:01:08 -0400 (Wed, 29 Oct 2025) EndedAt: 2025-10-29 00:02:13 -0400 (Wed, 29 Oct 2025) EllapsedTime: 65.1 seconds RetCode: 1 Status: ERROR CheckDir: ggtree.Rcheck Warnings: NA