Package: ggtree Version: 3.99.2 Command: /home/biocbuild/bbs-3.22-bioc/R/bin/R CMD build --keep-empty-dirs --no-resave-data --md5 ggtree StartedAt: 2025-10-24 18:01:53 -0400 (Fri, 24 Oct 2025) EndedAt: 2025-10-24 18:02:07 -0400 (Fri, 24 Oct 2025) EllapsedTime: 14.0 seconds RetCode: 0 Status: OK PackageFile: ggtree_3.99.2.tar.gz PackageFileSize: 362.6 KiB