Package: ggtree Version: 4.0.1 Command: /Library/Frameworks/R.framework/Resources/bin/R CMD build --keep-empty-dirs --no-resave-data ggtree StartedAt: 2025-11-17 22:49:02 -0500 (Mon, 17 Nov 2025) EndedAt: 2025-11-17 22:49:41 -0500 (Mon, 17 Nov 2025) EllapsedTime: 38.2 seconds RetCode: 0 Status: OK PackageFile: ggtree_4.0.1.tar.gz PackageFileSize: 355.9 KiB