Package: ggtree Version: 4.0.1 Command: rm -rf ggtree.buildbin-libdir && mkdir ggtree.buildbin-libdir && /Users/biocbuild/BBS/utils/build-universal.sh ggtree_4.0.1.tar.gz /Library/Frameworks/R.framework/Resources/bin/R ggtree.buildbin-libdir StartedAt: 2025-11-18 17:45:34 -0500 (Tue, 18 Nov 2025) EndedAt: 2025-11-18 17:46:05 -0500 (Tue, 18 Nov 2025) EllapsedTime: 31.5 seconds RetCode: 0 Status: OK PackageFile: ggtree_4.0.1.tgz PackageFileSize: 1004 KiB