Package: ggtree Version: 3.99.2 Command: /Library/Frameworks/R.framework/Resources/bin/R CMD INSTALL ggtree StartedAt: 2025-10-26 15:05:54 -0400 (Sun, 26 Oct 2025) EndedAt: 2025-10-26 15:06:00 -0400 (Sun, 26 Oct 2025) EllapsedTime: 6.1 seconds RetCode: 0 Status: OK