Package: ggtree Version: 3.99.2 Command: rm -rf ggtree.buildbin-libdir && mkdir ggtree.buildbin-libdir && /Users/biocbuild/BBS/utils/build-universal.sh ggtree_3.99.2.tar.gz /Library/Frameworks/R.framework/Resources/bin/R ggtree.buildbin-libdir StartedAt: 2025-10-26 22:37:22 -0400 (Sun, 26 Oct 2025) EndedAt: 2025-10-26 22:37:27 -0400 (Sun, 26 Oct 2025) EllapsedTime: 5.1 seconds RetCode: 0 Status: OK PackageFile: ggtree_3.99.2.tgz PackageFileSize: 1009 KiB