Package: ggtree Version: 4.0.1 Command: /Library/Frameworks/R.framework/Resources/bin/R CMD INSTALL ggtree StartedAt: 2025-11-17 17:07:43 -0500 (Mon, 17 Nov 2025) EndedAt: 2025-11-17 17:07:48 -0500 (Mon, 17 Nov 2025) EllapsedTime: 5.0 seconds RetCode: 0 Status: OK