Package: ggsc Version: 1.8.0 Command: /home/biocbuild/bbs-3.22-bioc/R/bin/R CMD INSTALL ggsc StartedAt: 2025-11-20 16:09:37 -0500 (Thu, 20 Nov 2025) EndedAt: 2025-11-20 16:10:46 -0500 (Thu, 20 Nov 2025) EllapsedTime: 68.4 seconds RetCode: 0 Status: OK