Package: ggsc Version: 1.8.0 Command: /home/biocbuild/bbs-3.22-bioc/R/bin/R CMD build --keep-empty-dirs --no-resave-data --md5 ggsc StartedAt: 2025-11-20 18:42:48 -0500 (Thu, 20 Nov 2025) EndedAt: 2025-11-20 18:43:47 -0500 (Thu, 20 Nov 2025) EllapsedTime: 59.1 seconds RetCode: 0 Status: OK PackageFile: ggsc_1.8.0.tar.gz PackageFileSize: 82.7 KiB