Package: ggmsa Version: 1.16.0 Command: /home/biocbuild/bbs-3.22-bioc/R/bin/R CMD INSTALL ggmsa StartedAt: 2025-11-17 17:22:15 -0500 (Mon, 17 Nov 2025) EndedAt: 2025-11-17 17:22:30 -0500 (Mon, 17 Nov 2025) EllapsedTime: 15.2 seconds RetCode: 0 Status: OK