Package: ggmsa Version: 1.16.0 Command: /home/biocbuild/bbs-3.22-bioc/R/bin/R CMD build --keep-empty-dirs --no-resave-data --md5 ggmsa StartedAt: 2025-11-17 21:13:32 -0500 (Mon, 17 Nov 2025) EndedAt: 2025-11-17 21:14:02 -0500 (Mon, 17 Nov 2025) EllapsedTime: 29.0 seconds RetCode: 0 Status: OK PackageFile: ggmsa_1.16.0.tar.gz PackageFileSize: 3.146 MiB