Package: ggbio Version: 1.58.0 Command: /home/biocbuild/bbs-3.22-bioc/R/bin/R CMD INSTALL ggbio StartedAt: 2025-11-06 15:46:00 -0500 (Thu, 06 Nov 2025) EndedAt: 2025-11-06 15:47:05 -0500 (Thu, 06 Nov 2025) EllapsedTime: 65.3 seconds RetCode: 0 Status: OK