Package: ggbio Version: 1.58.0 Command: /home/biocbuild/bbs-3.22-bioc/R/bin/R CMD build --keep-empty-dirs --no-resave-data --md5 ggbio StartedAt: 2025-11-06 17:51:34 -0500 (Thu, 06 Nov 2025) EndedAt: 2025-11-06 17:57:45 -0500 (Thu, 06 Nov 2025) EllapsedTime: 371.3 seconds RetCode: 0 Status: OK PackageFile: ggbio_1.58.0.tar.gz PackageFileSize: 3.34 MiB