Package: getDEE2 Version: 1.19.3 Command: /home/biocbuild/bbs-3.22-bioc/R/bin/R CMD INSTALL getDEE2 StartedAt: 2025-10-24 15:28:51 -0400 (Fri, 24 Oct 2025) EndedAt: 2025-10-24 15:29:10 -0400 (Fri, 24 Oct 2025) EllapsedTime: 18.9 seconds RetCode: 0 Status: OK