Package: getDEE2 Version: 1.19.3 Command: /home/biocbuild/bbs-3.22-bioc/R/bin/R CMD build --keep-empty-dirs --no-resave-data --md5 getDEE2 StartedAt: 2025-10-24 17:59:52 -0400 (Fri, 24 Oct 2025) EndedAt: 2025-10-24 18:01:53 -0400 (Fri, 24 Oct 2025) EllapsedTime: 121.1 seconds RetCode: 0 Status: OK PackageFile: getDEE2_1.19.3.tar.gz PackageFileSize: 24.42 KiB