Package: geomeTriD Version: 1.4.0 Command: /home/biocbuild/bbs-3.22-bioc/R/bin/R CMD INSTALL geomeTriD StartedAt: 2025-11-06 15:51:44 -0500 (Thu, 06 Nov 2025) EndedAt: 2025-11-06 15:52:59 -0500 (Thu, 06 Nov 2025) EllapsedTime: 74.8 seconds RetCode: 0 Status: OK