Package: geomeTriD Version: 1.4.0 Command: /home/biocbuild/bbs-3.22-bioc/R/bin/R CMD build --keep-empty-dirs --no-resave-data --md5 geomeTriD StartedAt: 2025-11-06 17:50:08 -0500 (Thu, 06 Nov 2025) EndedAt: 2025-11-06 17:51:41 -0500 (Thu, 06 Nov 2025) EllapsedTime: 93.1 seconds RetCode: 0 Status: OK PackageFile: geomeTriD_1.4.0.tar.gz PackageFileSize: 1.106 MiB