Package: genomation Version: 1.42.0 Command: /home/biocbuild/bbs-3.22-bioc/R/bin/R CMD build --keep-empty-dirs --no-resave-data --md5 genomation StartedAt: 2025-11-06 17:47:32 -0500 (Thu, 06 Nov 2025) EndedAt: 2025-11-06 17:48:47 -0500 (Thu, 06 Nov 2025) EllapsedTime: 74.1 seconds RetCode: 0 Status: OK PackageFile: genomation_1.42.0.tar.gz PackageFileSize: 6.013 MiB