Package: geneplotter Version: 1.88.0 Command: /home/biocbuild/bbs-3.22-bioc/R/bin/R CMD INSTALL geneplotter StartedAt: 2025-11-03 15:28:44 -0500 (Mon, 03 Nov 2025) EndedAt: 2025-11-03 15:28:59 -0500 (Mon, 03 Nov 2025) EllapsedTime: 14.6 seconds RetCode: 0 Status: OK