Package: geneplotter Version: 1.88.0 Command: /home/biocbuild/bbs-3.22-bioc/R/bin/R CMD build --keep-empty-dirs --no-resave-data --md5 geneplotter StartedAt: 2025-11-03 17:48:38 -0500 (Mon, 03 Nov 2025) EndedAt: 2025-11-03 17:49:02 -0500 (Mon, 03 Nov 2025) EllapsedTime: 24.0 seconds RetCode: 0 Status: OK PackageFile: geneplotter_1.88.0.tar.gz PackageFileSize: 1.637 MiB