Package: gemma.R Version: 3.6.0 Command: /Library/Frameworks/R.framework/Resources/bin/R CMD INSTALL gemma.R StartedAt: 2025-11-03 15:24:24 -0500 (Mon, 03 Nov 2025) EndedAt: 2025-11-03 15:24:32 -0500 (Mon, 03 Nov 2025) EllapsedTime: 8.4 seconds RetCode: 0 Status: OK