Package: gemma.R Version: 3.6.0 Command: /Library/Frameworks/R.framework/Resources/bin/R CMD build --keep-empty-dirs --no-resave-data gemma.R StartedAt: 2025-11-03 17:06:58 -0500 (Mon, 03 Nov 2025) EndedAt: 2025-11-03 17:11:38 -0500 (Mon, 03 Nov 2025) EllapsedTime: 279.5 seconds RetCode: 0 Status: OK PackageFile: gemma.R_3.6.0.tar.gz PackageFileSize: 2.149 MiB