Package: gemma.R Version: 3.6.0 Command: rm -rf gemma.R.buildbin-libdir && mkdir gemma.R.buildbin-libdir && /Users/biocbuild/BBS/utils/build-universal.sh gemma.R_3.6.0.tar.gz /Library/Frameworks/R.framework/Resources/bin/R gemma.R.buildbin-libdir StartedAt: 2025-11-04 01:41:25 -0500 (Tue, 04 Nov 2025) EndedAt: 2025-11-04 01:41:38 -0500 (Tue, 04 Nov 2025) EllapsedTime: 12.6 seconds RetCode: 0 Status: OK PackageFile: gemma.R_3.6.0.tgz PackageFileSize: 2.359 MiB