Package: gemma.R Version: 3.6.0 Command: /Library/Frameworks/R.framework/Resources/bin/R CMD INSTALL gemma.R StartedAt: 2025-11-17 17:27:38 -0500 (Mon, 17 Nov 2025) EndedAt: 2025-11-17 17:27:40 -0500 (Mon, 17 Nov 2025) EllapsedTime: 2.0 seconds RetCode: 0 Status: OK